BEGIN:VCALENDAR
VERSION:2.0
PRODID:-// - ECPv6.15.18//NONSGML v1.0//EN
CALSCALE:GREGORIAN
METHOD:PUBLISH
X-ORIGINAL-URL:https://bvdks.de
X-WR-CALDESC:Veranstaltungen für 
REFRESH-INTERVAL;VALUE=DURATION:PT1H
X-Robots-Tag:noindex
X-PUBLISHED-TTL:PT1H
BEGIN:VTIMEZONE
TZID:Europe/Berlin
BEGIN:DAYLIGHT
TZOFFSETFROM:+0100
TZOFFSETTO:+0200
TZNAME:CEST
DTSTART:20240331T010000
END:DAYLIGHT
BEGIN:STANDARD
TZOFFSETFROM:+0200
TZOFFSETTO:+0100
TZNAME:CET
DTSTART:20241027T010000
END:STANDARD
BEGIN:DAYLIGHT
TZOFFSETFROM:+0100
TZOFFSETTO:+0200
TZNAME:CEST
DTSTART:20250330T010000
END:DAYLIGHT
BEGIN:STANDARD
TZOFFSETFROM:+0200
TZOFFSETTO:+0100
TZNAME:CET
DTSTART:20251026T010000
END:STANDARD
BEGIN:DAYLIGHT
TZOFFSETFROM:+0100
TZOFFSETTO:+0200
TZNAME:CEST
DTSTART:20260329T010000
END:DAYLIGHT
BEGIN:STANDARD
TZOFFSETFROM:+0200
TZOFFSETTO:+0100
TZNAME:CET
DTSTART:20261025T010000
END:STANDARD
END:VTIMEZONE
BEGIN:VEVENT
DTSTART;VALUE=DATE:20250322
DTEND;VALUE=DATE:20250512
DTSTAMP:20260422T130716
CREATED:20241223T221142Z
LAST-MODIFIED:20241223T221142Z
UID:15964-1742601600-1747007999@bvdks.de
SUMMARY:Ausbildung "BVDKS Kettlebell-Trainer"
DESCRIPTION:
URL:https://bvdks.de/event/ausbildung-bvdks-kettlebell-trainer
LOCATION:TV Ober-Olm\, Ulmenhalle\, Essenheimer Straße 17\, Ober-Olm\, 55270\, Deutschland
ATTACH;FMTTYPE=image/jpeg:https://bvdks.de/wp-content/uploads/2024/12/Flyer-BVDKS-Trainerausbildung-2025.jpg
ORGANIZER;CN="Bundesverband Deutscher Kettlebell Sportler e.V.":MAILTO:info@bvdks.de
END:VEVENT
END:VCALENDAR